BEGIN:VCALENDAR
VERSION:2.0
PRODID:-//Contratero//ES
CALSCALE:GREGORIAN
METHOD:PUBLISH
BEGIN:VEVENT
UID:SERVICIOS 35/24@contratero.es
DTSTAMP:20260420T164722Z
DTSTART:20250115T235959
DTEND:20250116T005959
SUMMARY:Cierre: Ejecución de los trabajos consistentes en Ampliaci
DESCRIPTION:Ejecución de los trabajos consistentes en Ampliación garantía soporte y mantenimiento aplicación PANDORA\, PARA LA Gestión documental del Archivo Municipal.\\n\\nOrganismo: Junta de Gobierno del Ayuntamiento de Toledo\\n\\nVer en Contratero: https://contratero.es/contracts/SERVICIOS 35/24
URL:https://contratero.es/contracts/SERVICIOS 35/24
STATUS:CONFIRMED
BEGIN:VALARM
TRIGGER:-P1D
ACTION:DISPLAY
DESCRIPTION:Recordatorio: Ejecución de los trabajos cons
END:VALARM
END:VEVENT
END:VCALENDAR